BEGIN:VCALENDAR
VERSION:2.0
PRODID:-//Noble Jour Nuit - ECPv6.5.1.5//NONSGML v1.0//EN
CALSCALE:GREGORIAN
METHOD:PUBLISH
X-WR-CALNAME:Noble Jour Nuit
X-ORIGINAL-URL:https://www.noblejournuit.com
X-WR-CALDESC:évènements pour Noble Jour Nuit
REFRESH-INTERVAL;VALUE=DURATION:PT1H
X-Robots-Tag:noindex
X-PUBLISHED-TTL:PT1H
BEGIN:VTIMEZONE
TZID:Europe/Paris
BEGIN:DAYLIGHT
TZOFFSETFROM:+0100
TZOFFSETTO:+0200
TZNAME:CEST
DTSTART:20250330T010000
END:DAYLIGHT
BEGIN:STANDARD
TZOFFSETFROM:+0200
TZOFFSETTO:+0100
TZNAME:CET
DTSTART:20251026T010000
END:STANDARD
END:VTIMEZONE
BEGIN:VEVENT
DTSTART;TZID=Europe/Paris:20251218T120000
DTEND;TZID=Europe/Paris:20251220T230000
DTSTAMP:20260426T033023
CREATED:20251205T150623Z
LAST-MODIFIED:20251212T161711Z
UID:10001167-1766059200-1766271600@www.noblejournuit.com
SUMMARY:Happy Christmas Fooding 2025 - Menu de Noël Noble
DESCRIPTION:Happy Christmas Fooding au Noble les 18 19 et 20 décembre 🎄🎅 Venez déguster notre fabuleux menu de noël ✨ Réservation en ligne ouverte. #happychristmas#menudenoel #christmasfood
URL:https://www.noblejournuit.com/evenement/happy-christmas-fooding-2025-menu-de-noel-noble/
LOCATION:NOBLE Jour & Nuit\, 2\, Avenue de l'Europe\, Toussus-le-Noble\, 78117\, France
CATEGORIES:Edition spéciale
ATTACH;FMTTYPE=image/jpeg:https://www.noblejournuit.com/wp-content/uploads/2025/12/Happy-christmas-fooding-2025-Noble.jpg
END:VEVENT
END:VCALENDAR