BEGIN:VCALENDAR
VERSION:2.0
PRODID:-//Noble Jour Nuit - ECPv6.5.1.5//NONSGML v1.0//EN
CALSCALE:GREGORIAN
METHOD:PUBLISH
X-WR-CALNAME:Noble Jour Nuit
X-ORIGINAL-URL:https://www.noblejournuit.com
X-WR-CALDESC:évènements pour Noble Jour Nuit
REFRESH-INTERVAL;VALUE=DURATION:PT1H
X-Robots-Tag:noindex
X-PUBLISHED-TTL:PT1H
BEGIN:VTIMEZONE
TZID:Europe/Paris
BEGIN:DAYLIGHT
TZOFFSETFROM:+0100
TZOFFSETTO:+0200
TZNAME:CEST
DTSTART:20240331T010000
END:DAYLIGHT
BEGIN:STANDARD
TZOFFSETFROM:+0200
TZOFFSETTO:+0100
TZNAME:CET
DTSTART:20241027T010000
END:STANDARD
BEGIN:DAYLIGHT
TZOFFSETFROM:+0100
TZOFFSETTO:+0200
TZNAME:CEST
DTSTART:20250330T010000
END:DAYLIGHT
BEGIN:STANDARD
TZOFFSETFROM:+0200
TZOFFSETTO:+0100
TZNAME:CET
DTSTART:20251026T010000
END:STANDARD
BEGIN:DAYLIGHT
TZOFFSETFROM:+0100
TZOFFSETTO:+0200
TZNAME:CEST
DTSTART:20260329T010000
END:DAYLIGHT
BEGIN:STANDARD
TZOFFSETFROM:+0200
TZOFFSETTO:+0100
TZNAME:CET
DTSTART:20261025T010000
END:STANDARD
END:VTIMEZONE
BEGIN:VEVENT
DTSTART;TZID=Europe/Paris:20260410T203000
DTEND;TZID=Europe/Paris:20260411T020000
DTSTAMP:20260425T191557
CREATED:20260325T173837Z
LAST-MODIFIED:20260325T175328Z
UID:10001188-1775853000-1775872800@www.noblejournuit.com
SUMMARY:Afro Latin Vibes - 10 Avril 2026 - Noble Jour & Nuit
DESCRIPTION:Soirée Afro Latin Vibes \nDate : 10 Avril 2026 \nLieu : Noble Jour & Nuit \nProgramme : \n– 20h30-21h30 : Cours de Salsa & Son avec Carlos (Cuba Sin Fronteras) \n– 21h30-22h30 : Cours de Kizomba/Semba avec Dilson (Dilson Dance Academy) \n– 23h30-02h00 : Mix Afro-Latin avec DJ Tonio Siwo \nTarifs : \n– Entrée + 1 conso + 1 vestiaire : 12€ \nBilletterie : \n– Préventes disponibles sur HelloAsso
URL:https://www.noblejournuit.com/evenement/afro-latin-vibes-10-avril-2026-noble-jour-nuit/
LOCATION:NOBLE Jour & Nuit\, 2\, Avenue de l'Europe\, Toussus-le-Noble\, 78117\, France
CATEGORIES:Edition spéciale,Soirée
ATTACH;FMTTYPE=image/jpeg:https://www.noblejournuit.com/wp-content/uploads/2026/03/AfroLatin-Vibes-10-Avril-2026-Noble-Jour-Nuit.jpg
END:VEVENT
BEGIN:VEVENT
DTSTART;TZID=Europe/Paris:20260327T210000
DTEND;TZID=Europe/Paris:20260328T020000
DTSTAMP:20260425T191557
CREATED:20260325T174343Z
LAST-MODIFIED:20260325T174343Z
UID:10001189-1774645200-1774663200@www.noblejournuit.com
SUMMARY:La Caribena - Vendredi 27 Mars - Noble Jour Nuit
DESCRIPTION:VERSAILLES LATINA PRÉSENTE \nVENDREDI 27 MARS \nLa Caribeña \n* 21h – 22h : Cours de Bachata avec Sania & Alexis \n* 22h – 02h : Mix Caribéen avec DJ Shedu et le percussionniste Armando Pino Olivéra \nInfos et réservations : \n* www.versailleslatina.fr \n* FB versailles.latina \nEntrée : \n* +1 conso + vestiaire \n* 12€
URL:https://www.noblejournuit.com/evenement/la-caribena-vendredi-27-mars-noble-jour-nuit/
LOCATION:NOBLE Jour & Nuit\, 2\, Avenue de l'Europe\, Toussus-le-Noble\, 78117\, France
CATEGORIES:Edition spéciale,Soirée
ATTACH;FMTTYPE=image/jpeg:https://www.noblejournuit.com/wp-content/uploads/2026/03/La-Caribena-Vendredi-27-Mars-Noble-Jour-Nuit.jpeg
END:VEVENT
BEGIN:VEVENT
DTSTART;TZID=Europe/Paris:20260313T210000
DTEND;TZID=Europe/Paris:20260314T020000
DTSTAMP:20260425T191557
CREATED:20260218T104342Z
LAST-MODIFIED:20260218T104613Z
UID:10001187-1773435600-1773453600@www.noblejournuit.com
SUMMARY:Soirée Latino - Cabeza Loca - 13 Mars  2026
DESCRIPTION:Soirée Salsa Cubaine
URL:https://www.noblejournuit.com/evenement/soiree-latino-cabeza-loca-13-mars-2026/
LOCATION:NOBLE Jour & Nuit\, 2\, Avenue de l'Europe\, Toussus-le-Noble\, 78117\, France
CATEGORIES:Edition spéciale,Soirée
ATTACH;FMTTYPE=image/jpeg:https://www.noblejournuit.com/wp-content/uploads/2026/02/Cabeza-Loca-13-Mars-Noble.jpg
END:VEVENT
BEGIN:VEVENT
DTSTART;TZID=Europe/Paris:20260214T180000
DTEND;TZID=Europe/Paris:20260215T020000
DTSTAMP:20260425T191557
CREATED:20260120T210452Z
LAST-MODIFIED:20260120T210452Z
UID:10001169-1771092000-1771120800@www.noblejournuit.com
SUMMARY:Soirée Saint-Valentin - 14 Février
DESCRIPTION:À l’occasion de la Saint-Valentin\, \nle Restaurant Noble Jour & Nuit vous convie à une soirée glamour et festive\,\noù élégance\, ambiance envoûtante et\nmenu délicieusement raffiné promettent une nuit inoubliable.
URL:https://www.noblejournuit.com/evenement/soiree-saint-valentin-14-fevrier/
LOCATION:NOBLE Jour & Nuit\, 2\, Avenue de l'Europe\, Toussus-le-Noble\, 78117\, France
CATEGORIES:Edition spéciale,Soirée
ATTACH;FMTTYPE=image/jpeg:https://www.noblejournuit.com/wp-content/uploads/2026/01/14-Fev-2026-Samedi-St-Valentin-Noble-scaled.jpg
END:VEVENT
BEGIN:VEVENT
DTSTART;TZID=Europe/Paris:20260213T210000
DTEND;TZID=Europe/Paris:20260214T020000
DTSTAMP:20260425T191557
CREATED:20260128T163359Z
LAST-MODIFIED:20260128T163359Z
UID:10001170-1771016400-1771034400@www.noblejournuit.com
SUMMARY:Soirée Latino - Cabeza Loca - 13 Février  2026
DESCRIPTION:Soirée Salsa Cubaine
URL:https://www.noblejournuit.com/evenement/soiree-latino-cabeza-loca-13-fevrier-2026/
LOCATION:NOBLE Jour & Nuit\, 2\, Avenue de l'Europe\, Toussus-le-Noble\, 78117\, France
CATEGORIES:Edition spéciale,Soirée
ATTACH;FMTTYPE=image/jpeg:https://www.noblejournuit.com/wp-content/uploads/2026/01/Cabeza-Loca-13-Fev-Noble.jpg
END:VEVENT
BEGIN:VEVENT
DTSTART;VALUE=DATE:20251231
DTEND;VALUE=DATE:20260102
DTSTAMP:20260425T191557
CREATED:20251212T154957Z
LAST-MODIFIED:20251212T161650Z
UID:10001168-1767157200-1767243599@www.noblejournuit.com
SUMMARY:La Night 2025 2026 - Réveillon du Nouvel An au Noble jour & nuit
DESCRIPTION:Le mercredi 31 décembre s’annonce exceptionnel chez Noble Jour & Nuit ! \nVenez célébrer le réveillon du Nouvel An dans une atmosphère élégante\, festive et chaleureuse\, où plaisir et art de vivre seront à l’honneur.\nAu programme :\n✨ Menu gastronomique avec accord mets & vins à 140 € ou 190 € (version prestige) \n✨ Spectacles & surprises tout au long de la soirée\n✨ Animation DJ pour accueillir 2026 dans une ambiance inoubliable \nRéservez votre soirée et préparez-vous à vivre un réveillon d’exception ! Contact & réservation 06 38 39 75 25
URL:https://www.noblejournuit.com/evenement/la-night-2025-2026-reveillon-du-nouvel-an-au-noble-jour-nuit/
LOCATION:NOBLE Jour & Nuit\, 2\, Avenue de l'Europe\, Toussus-le-Noble\, 78117\, France
CATEGORIES:Edition spéciale,Soirée
ATTACH;FMTTYPE=image/jpeg:https://www.noblejournuit.com/wp-content/uploads/2025/12/La-Night-2025-2026.jpg
END:VEVENT
BEGIN:VEVENT
DTSTART;TZID=Europe/Paris:20250627T180000
DTEND;TZID=Europe/Paris:20250628T020000
DTSTAMP:20260425T191557
CREATED:20250625T183802Z
LAST-MODIFIED:20250626T075027Z
UID:10000076-1751047200-1751076000@www.noblejournuit.com
SUMMARY:Soirée Miami Vice - Vendredi 27 Juin
DESCRIPTION:🌴🔥 MIAMI VICE NIGHT – VENDREDI 27 JUIN 🔥🌴\nPrépare-toi à vivre une soirée 100% ambiance Neo / Rétro & Caliente au NOBLE Jour & Nuit ! 🌅 \n✨ Entrée libre + OPEN BAR 21h-23h* 🍻\n• Bières blondes & rosé offerts *uniquement pour les dames 💃\n• Messieurs : Entrée + conso = 20€ 🕺 \n🔥 DJ SET by MGI (22h-02h) pour enflammer la piste toute la nuit\n🍖 Barbecue Chic en terrasse – ambiance estivale garantie ! \n📍 2 Av. de l’Europe – 78117 Toussus-le-Noble\n🅿️ Parking gratuit\n📲 Infos & résas : 06 38 39 75 25\n🔗 www.noblejourenuit.com | @noble.jour.nuit \n#MiamiVice #SoiréeNoble #OpenBar #DJSet #BarbecueChic #NobleJourEtNuit #SoiréeGratuite #ToussusLeNoble #SoiréeÉté2025 #PartyTime
URL:https://www.noblejournuit.com/evenement/soiree-miami-vice-vendredi-27-juin/
LOCATION:NOBLE Jour & Nuit\, 2\, Avenue de l'Europe\, Toussus-le-Noble\, 78117\, France
CATEGORIES:Edition spéciale,Soirée
ATTACH;FMTTYPE=image/jpeg:https://www.noblejournuit.com/wp-content/uploads/2025/06/Miami-Vice-Juin-2025-Noble-1.jpg
END:VEVENT
BEGIN:VEVENT
DTSTART;TZID=Europe/Paris:20250329T230000
DTEND;TZID=Europe/Paris:20250330T050000
DTSTAMP:20260425T191557
CREATED:20250329T125812Z
LAST-MODIFIED:20250329T125812Z
UID:10000014-1743289200-1743310800@www.noblejournuit.com
SUMMARY:Soirée "Belle Epoque Chic" Edition - 29 Mars 2025
DESCRIPTION:Sisley Évents présente :  \n        SAM 29 MARS de 23h à 5h  \n                LA BELLE ÉPOQUE édition “Chic” \nUn Nouveau lieu « CLASS » pour une édition  Spéciale !!! \nMesdames soyez « Chic » \, Messieurs soyez à la hauteur : Chemise ou veste de Costume OBLIGATOIRE !  \n2 Salles 2 Ambiances :  \n_une Ambiance Caribbean Nostalgie : zouk \, kompa \, Ragga \, Dancehall  \n_une Ambiance Généraliste : hip hop \, clubbing \, pop \, funk \, disco …  \nEntrée Gratuite av Minuit Trente sur Invitation Bizouk  \nPrévente à partir de 10€ et 20€ avec Conso  \nsur place  \nProfitez des Packs bouteilles en Promo en Prévente !  \nSoirée Réservée aux + de 30 ANS  \nChers clients \, ayez du style « chic et class »  \nInfo et Réservation : 0662342602  \nsuivez nous sur Instagram : Sisley évents  \nGéolocalisation :  \nà 8 min de Versailles \nà 25 min de Créteil \nà 20 min d’Orly\nà 15 min de Velizy\nà 30 min de Corbeil-Essonnes \nà 15 min de la porte de St-Cloud\nà 35 min de Noisy le Grand\nà 35 min de Rosny sous Bois \n  \nLE NOBLE  \n2 Av de l’Europe  \nToussus-le-noble  \n 
URL:https://www.noblejournuit.com/evenement/soiree-belle-epoque-chic-edition-29-mars-2025/
LOCATION:NOBLE Jour & Nuit\, 2\, Avenue de l'Europe\, Toussus-le-Noble\, 78117\, France
CATEGORIES:Edition spéciale,Soirée
ATTACH;FMTTYPE=image/jpeg:https://www.noblejournuit.com/wp-content/uploads/2025/03/Belle-Epoque-edt3-Flyer-25-Mars-2025-scaled.jpg
END:VEVENT
BEGIN:VEVENT
DTSTART;TZID=Europe/Paris:20250315T230000
DTEND;TZID=Europe/Paris:20250316T050000
DTSTAMP:20260425T191557
CREATED:20250312T081048Z
LAST-MODIFIED:20250312T081153Z
UID:10000013-1742079600-1742101200@www.noblejournuit.com
SUMMARY:Soirée Belle Epoque - Edition Chic - Episode 2
DESCRIPTION:Sisley Évents présente :  \n        SAM 15 MARS de 23h à 5h  \n                LA BELLE ÉPOQUE édition “Chic” \nUn Nouveau lieu « CLASS » pour une édition  Spéciale !!! \nMesdames soyez « Chic » \, Messieurs soyez à la hauteur : Chemise ou veste de Costume OBLIGATOIRE !  \nAux platines \, DJ FREDDY TOJAKONET + Guest \, le Spécialiste pour une Ambiance Caribbean Nostalgie / Old School des années 2000…  \nEntrée Gratuite av Minuit Trente sur Invitation Bizouk  \nPrévente à partir de 10€ et 20€ avec Conso sur place  \nSoirée Réservée aux + de 30 ANS  \nChers clients \, ayez du style « chic et class »  \nInfo et Réservation : 0662342602  \nsuivez nous sur Instagram : Sisley évents  \n  \nLE NOBLE  \n2 Av de l’Europe  \nToussus-le-noble 
URL:https://www.noblejournuit.com/evenement/soiree-belle-epoque-edition-chic-episode-2/
LOCATION:NOBLE Jour & Nuit\, 2\, Avenue de l'Europe\, Toussus-le-Noble\, 78117\, France
CATEGORIES:Edition spéciale,Soirée
ATTACH;FMTTYPE=image/jpeg:https://www.noblejournuit.com/wp-content/uploads/2025/03/29515451d660395b78d2b6dd3b8d4192_700_600_landscape_97.jpg
END:VEVENT
BEGIN:VEVENT
DTSTART;TZID=Europe/Paris:20250214T180000
DTEND;TZID=Europe/Paris:20250215T170000
DTSTAMP:20260425T191557
CREATED:20250122T161609Z
LAST-MODIFIED:20250122T162057Z
UID:10000012-1739556000-1739638800@www.noblejournuit.com
SUMMARY:Saint Valentin 2025 - 14 Février
DESCRIPTION:✨ Soirée de Saint-Valentin au Noble Jour & Nuit ✨ \nCélébrez l’amour sous toutes ses formes dans un cadre élégant et raffiné 💕\nQue vous soyez en couple ou célibataire\, notre menu spécial St-Valentin est fait pour vous ! \n🍽️ Menus exclusifs pour partager des moments inoubliables (2 formules au choix)\n🎶 Soirée animée par notre DJ pour vibrer jusqu’au bout de la nuit \n📍 Lieu : Noble Jour & Nuit (à 10 minutes de Versailles)\n📆 Date : Vendredi 14 février\n⏰ Horaires : 18h – 2h \nRéserver dès maintenant et laissez la magie opérer 💌\n📞 Contact : 07 86 21 12 71 / contact.restaurant.noble@gmail.com \n#StValentin #NobleJourNuit #AmbianceDJ #VendrediSoirée \n 
URL:https://www.noblejournuit.com/evenement/saint-valentin-2025-14-fevrier/
LOCATION:NOBLE Jour & Nuit\, 2\, Avenue de l'Europe\, Toussus-le-Noble\, 78117\, France
CATEGORIES:Edition spéciale,Soirée
ATTACH;FMTTYPE=image/jpeg:https://www.noblejournuit.com/wp-content/uploads/2025/01/14-Fev-2025-vendredi-St-Valentin-Noble-001.jpg
END:VEVENT
BEGIN:VEVENT
DTSTART;TZID=Europe/Paris:20241231T190000
DTEND;TZID=Europe/Paris:20250101T050000
DTSTAMP:20260425T191557
CREATED:20241213T141146Z
LAST-MODIFIED:20241213T141152Z
UID:10000010-1735671600-1735707600@www.noblejournuit.com
SUMMARY:Soirée du réveillon du Nouvel An 2025
DESCRIPTION:Chers amis et gourmets\, \nCette année\, le Restaurant Noble vous invite à vivre une soirée inoubliable pour le passage à la nouvelle année ! 🥳✨ Le thème de notre réveillon : « Les 12 coups de minuit dans le monde ». \nPréparez-vous à un voyage sensoriel où chaque coup de minuit vous plongera dans une ambiance unique\, inspirée des traditions et célébrations des quatre coins du globe ! 🌍💫 \nAu programme : un dîner exquis préparé par notre chef\, des performances artistiques envoûtantes et une ambiance festive qui vous fera danser jusqu’au bout de la nuit. 🎶💃🕺 \nRéservez dès maintenant votre table pour partager ce moment magique avec vos proches. Ensemble\, célébrons la fin d’une année et le début d’une nouvelle aventure ! \n📅 Date : 31 décembre\n🕒 Heure : À partir de 19h\n📍 Lieu : Restaurant Noble\n🎟️ Réservations : cliquez ici \nVenez vivre une soirée mémorable\, pleine de surprises et de joie. Ensemble\, faisons résonner les 12 coups de minuit ! 🥂✨ \nÀ très bientôt au Noble ! 🍽️❤️ \n 
URL:https://www.noblejournuit.com/evenement/soiree-du-reveillon-du-nouvel-an-2025/
LOCATION:NOBLE Jour & Nuit\, 2\, Avenue de l'Europe\, Toussus-le-Noble\, 78117\, France
CATEGORIES:Edition spéciale,Soirée
ATTACH;FMTTYPE=image/jpeg:https://www.noblejournuit.com/wp-content/uploads/2024/12/Mardi-31-Decembre-2025-NYE-Noble-Annonce-scaled.jpg
END:VEVENT
BEGIN:VEVENT
DTSTART;TZID=Europe/Paris:20241213T210000
DTEND;TZID=Europe/Paris:20241214T020000
DTSTAMP:20260425T191557
CREATED:20241213T141629Z
LAST-MODIFIED:20241213T142018Z
UID:10000011-1734123600-1734141600@www.noblejournuit.com
SUMMARY:Soirée Efficience Kizomba Night - Kiz 4 Science
DESCRIPTION:📅 Vendredi 13 Décembre\n📍 Noble Jour & Nuit – Toussus le Noble \n💃✨ Kiz 4 Science vous invite à une soirée exceptionnelle sous le signe de la Kizomba\, la danse\, et la passion ! \nAU PROGRAMME :\n🎯 4 professeurs pour des cours uniques et enrichissants\n🎶 2 DJs de talent pour vous faire vibrer toute la nuit\n🌟 Une ambiance raffinée dans un lieu d’exception \n👉 Ne manquez pas LA soirée kizomba incontournable de la saison ! \n📌 Adresse : Noble Jour & Nuit\, Toussus le Noble\n⏰ Dès 21h \n🖤 Réservez votre vendredi et venez partager un moment inoubliable avec nous. \n📲 Infos et réservations en DM. \nL’Efficience\, c’est vous\, c’est nous\, c’est le Kizomba.\nOn vous attend nombreux ! 🖤 \n#Kizomba #Party
URL:https://www.noblejournuit.com/evenement/soiree-efficience-kizomba-night-kiz-4-science/
LOCATION:NOBLE Jour & Nuit\, 2\, Avenue de l'Europe\, Toussus-le-Noble\, 78117\, France
CATEGORIES:Soirée
ATTACH;FMTTYPE=image/jpeg:https://www.noblejournuit.com/wp-content/uploads/2024/12/Kizomba-Night-K4S-13-Dec-2024-scaled.jpg
END:VEVENT
BEGIN:VEVENT
DTSTART;TZID=Europe/Paris:20241116T220000
DTEND;TZID=Europe/Paris:20241117T020000
DTSTAMP:20260425T191557
CREATED:20241112T181944Z
LAST-MODIFIED:20241112T181944Z
UID:10000008-1731794400-1731808800@www.noblejournuit.com
SUMMARY:Soirée Funk Disco - Samedi 16 Novembre
DESCRIPTION:Soirée Funk Disco et plus …\nSamedi 16 Novembre \nEntrée libre \n\nRESTAURANT • BAR • CLUBBING • LOUNGE • PARKING GRATUIT
URL:https://www.noblejournuit.com/evenement/soiree-funk-disco-samedi-16-novembre/
LOCATION:NOBLE Jour & Nuit\, 2\, Avenue de l'Europe\, Toussus-le-Noble\, 78117\, France
CATEGORIES:Soirée
ATTACH;FMTTYPE=image/jpeg:https://www.noblejournuit.com/wp-content/uploads/2024/11/16-Nov-2024-samedi-Funk-Disco-Noble-scaled.jpg
END:VEVENT
BEGIN:VEVENT
DTSTART;TZID=Europe/Paris:20241115T220000
DTEND;TZID=Europe/Paris:20241116T020000
DTSTAMP:20260425T191557
CREATED:20241112T182149Z
LAST-MODIFIED:20241112T182404Z
UID:10000009-1731708000-1731722400@www.noblejournuit.com
SUMMARY:Soirée Ritmo Latino - Vendredi 15 Novembre
DESCRIPTION:Soirée Ritmo Latino\nReggaeton • Pop • House • Dembow • Bachata • Salsa \nSamedi 16 Novembre \nEntrée libre \n\nRESTAURANT • BAR • CLUBBING • LOUNGE • PARKING GRATUIT
URL:https://www.noblejournuit.com/evenement/soiree-ritmo-latino-vendredi-15-novembre/
LOCATION:NOBLE Jour & Nuit\, 2\, Avenue de l'Europe\, Toussus-le-Noble\, 78117\, France
CATEGORIES:Soirée
ATTACH;FMTTYPE=image/jpeg:https://www.noblejournuit.com/wp-content/uploads/2024/11/15-Nov-2024-vendredi-Ritmo-Latino-Noble-scaled.jpg
END:VEVENT
BEGIN:VEVENT
DTSTART;TZID=Europe/Paris:20241031T190000
DTEND;TZID=Europe/Paris:20241103T020000
DTSTAMP:20260425T191557
CREATED:20241025T113104Z
LAST-MODIFIED:20241025T121939Z
UID:10000007-1730401200-1730599200@www.noblejournuit.com
SUMMARY:Dia de los Muertos du 31 Octobre au 2 Novembre 2024
DESCRIPTION:Du 31 Octobre au 2 Novembre 2024 \nDécouverte de shooter à la tequila\nDécor et menu spécial à 40 euros\nEntrée : guacamole ou ceviche\nPlat : ribs de bœuf ou tacos\nDessert : gâteau à la mexicaine et verine de mousse ananas
URL:https://www.noblejournuit.com/evenement/dia-de-los-muertos-2024/
LOCATION:NOBLE Jour & Nuit\, 2\, Avenue de l'Europe\, Toussus-le-Noble\, 78117\, France
CATEGORIES:Edition spéciale,Soirée
ATTACH;FMTTYPE=image/jpeg:https://www.noblejournuit.com/wp-content/uploads/2024/10/Dia-de-los-murtos-Noble-31oct_1nov_2Nov.jpg
END:VEVENT
BEGIN:VEVENT
DTSTART;TZID=Europe/Paris:20241018T220000
DTEND;TZID=Europe/Paris:20241019T020000
DTSTAMP:20260425T191557
CREATED:20241010T175024Z
LAST-MODIFIED:20241010T175024Z
UID:10000005-1729288800-1729303200@www.noblejournuit.com
SUMMARY:Soirée Madame - 100% Femmes - 18 Octobre
DESCRIPTION:Rdv Vendredi 18 Octobre pour une soirée 💯 Femmes \nSoirée Madame au @noble.jour.nuit\nDes surprises et des shows
URL:https://www.noblejournuit.com/evenement/soiree-madame-100-femmes-18-octobre/
LOCATION:NOBLE Jour & Nuit\, 2\, Avenue de l'Europe\, Toussus-le-Noble\, 78117\, France
CATEGORIES:Soirée
ATTACH;FMTTYPE=image/jpeg:https://www.noblejournuit.com/wp-content/uploads/2024/10/Soiree-Madame-Noble-18-Oct-2024-scaled.jpg
END:VEVENT
BEGIN:VEVENT
DTSTART;TZID=Europe/Paris:20241011T200000
DTEND;TZID=Europe/Paris:20241012T020000
DTSTAMP:20260425T191557
CREATED:20241002T133124Z
LAST-MODIFIED:20241002T133215Z
UID:10000004-1728676800-1728698400@www.noblejournuit.com
SUMMARY:Kizomba Night - Vendredi 11 Octobre
DESCRIPTION:Entrée gratuite \nCours de Kizomba (Valerian) 20h00-21h30\nLive set (Dj Mgi) 21h30-02h00
URL:https://www.noblejournuit.com/evenement/kizomba-night-vendredi-11-octobre/
LOCATION:NOBLE Jour & Nuit\, 2\, Avenue de l'Europe\, Toussus-le-Noble\, 78117\, France
CATEGORIES:Soirée
ATTACH;FMTTYPE=image/jpeg:https://www.noblejournuit.com/wp-content/uploads/2024/10/Kizomba-Noble-11-Oct-2024-scaled.jpg
END:VEVENT
BEGIN:VEVENT
DTSTART;TZID=Europe/Paris:20240719T210000
DTEND;TZID=Europe/Paris:20240720T030000
DTSTAMP:20260425T191557
CREATED:20240707T195627Z
LAST-MODIFIED:20240715T160951Z
UID:10000001-1721422800-1721444400@www.noblejournuit.com
SUMMARY:Friday Mood Party - 19 Juillet 2024
DESCRIPTION:ENTRÉE FREE POUR TOUS AVANT 23H30 !!!\nLe Noble jour & nuit ouvre ses portes le Vendredi 19 Juillet 2024 \nUn lieu magnifique \n  \nClubbing x HipHop x Afro x Dancehall x Zouk x Kompa \nDj MGI x Dj YRRI-T \n  \nLe Noble Jour & Nuit2\, avenue de l’Europe – 78117 Toussus-le-Noble \n  \nSoirée de 21h00 à 03h00 \nEntrée 10€ • Entrée + Soft 12€ • Entrée + Hard 15€ \n  \nParking gratuit • Bar • Espace lounge / Chicha / Terrasse \nRestaurant jusqu’à 18h-23h \n  \nA 10 min de Versailles. Proche Vélizy\, Saclay\, Guyancourt\, Montigny\, Saint-Quentin-en-Yvelines (Yvelines 78\, Essonne 91)
URL:https://www.noblejournuit.com/evenement/friday-mood-party-19-juillet/
LOCATION:NOBLE Jour & Nuit\, 2\, Avenue de l'Europe\, Toussus-le-Noble\, 78117\, France
CATEGORIES:Soirée
ATTACH;FMTTYPE=image/jpeg:https://www.noblejournuit.com/wp-content/uploads/2024/07/Friday-Mood-Party-Noble-Jour-Nuit-19-Juillet-2024-1.jpg
END:VEVENT
BEGIN:VEVENT
DTSTART;TZID=Europe/Paris:20240705T210000
DTEND;TZID=Europe/Paris:20240706T020000
DTSTAMP:20260425T191557
CREATED:20240707T225227Z
LAST-MODIFIED:20240707T225227Z
UID:10000003-1720213200-1720231200@www.noblejournuit.com
SUMMARY:Friday Night Party - 5 Juillet 2024
DESCRIPTION:Rdv le 🗓️ Vendredi 5 Juillet\nDj Set by MGI \nRestaurant / Bar / Clubbing / Chicha / Lounge / Terrasse\n(Parking Gratuit) \nLe Noble Jour & Nuit📍2\, avenue de l’Europe – 78117 Toussus-le-Noble \n10 min de Versailles proche Saclay\, Vélizy\, SQY (Yvelines 78\, Essonne 91)
URL:https://www.noblejournuit.com/evenement/friday-night-party-5-juillet-2024/
LOCATION:NOBLE Jour & Nuit\, 2\, Avenue de l'Europe\, Toussus-le-Noble\, 78117\, France
CATEGORIES:Soirée
ATTACH;FMTTYPE=image/jpeg:https://www.noblejournuit.com/wp-content/uploads/2024/07/Friday-Night-Party-Noble-5-Juillet-2024.jpg
END:VEVENT
END:VCALENDAR