BEGIN:VCALENDAR
VERSION:2.0
PRODID:-//Noble Jour Nuit - ECPv6.5.1.5//NONSGML v1.0//EN
CALSCALE:GREGORIAN
METHOD:PUBLISH
X-WR-CALNAME:Noble Jour Nuit
X-ORIGINAL-URL:https://www.noblejournuit.com
X-WR-CALDESC:évènements pour Noble Jour Nuit
REFRESH-INTERVAL;VALUE=DURATION:PT1H
X-Robots-Tag:noindex
X-PUBLISHED-TTL:PT1H
BEGIN:VTIMEZONE
TZID:Europe/Paris
BEGIN:DAYLIGHT
TZOFFSETFROM:+0100
TZOFFSETTO:+0200
TZNAME:CEST
DTSTART:20260329T010000
END:DAYLIGHT
BEGIN:STANDARD
TZOFFSETFROM:+0200
TZOFFSETTO:+0100
TZNAME:CET
DTSTART:20261025T010000
END:STANDARD
END:VTIMEZONE
BEGIN:VEVENT
DTSTART;TZID=Europe/Paris:20260410T203000
DTEND;TZID=Europe/Paris:20260411T020000
DTSTAMP:20260425T204847
CREATED:20260325T173837Z
LAST-MODIFIED:20260325T175328Z
UID:10001188-1775853000-1775872800@www.noblejournuit.com
SUMMARY:Afro Latin Vibes - 10 Avril 2026 - Noble Jour & Nuit
DESCRIPTION:Soirée Afro Latin Vibes \nDate : 10 Avril 2026 \nLieu : Noble Jour & Nuit \nProgramme : \n– 20h30-21h30 : Cours de Salsa & Son avec Carlos (Cuba Sin Fronteras) \n– 21h30-22h30 : Cours de Kizomba/Semba avec Dilson (Dilson Dance Academy) \n– 23h30-02h00 : Mix Afro-Latin avec DJ Tonio Siwo \nTarifs : \n– Entrée + 1 conso + 1 vestiaire : 12€ \nBilletterie : \n– Préventes disponibles sur HelloAsso
URL:https://www.noblejournuit.com/evenement/afro-latin-vibes-10-avril-2026-noble-jour-nuit/
LOCATION:NOBLE Jour & Nuit\, 2\, Avenue de l'Europe\, Toussus-le-Noble\, 78117\, France
CATEGORIES:Edition spéciale,Soirée
ATTACH;FMTTYPE=image/jpeg:https://www.noblejournuit.com/wp-content/uploads/2026/03/AfroLatin-Vibes-10-Avril-2026-Noble-Jour-Nuit.jpg
END:VEVENT
END:VCALENDAR